BEGIN:VCALENDAR
VERSION:2.0
PRODID:-//Power Motorcycles USA - ECPv6.9.0//NONSGML v1.0//EN
CALSCALE:GREGORIAN
METHOD:PUBLISH
X-ORIGINAL-URL:https://www.powermotorcyclesusa.com
X-WR-CALDESC:Events for Power Motorcycles USA
REFRESH-INTERVAL;VALUE=DURATION:PT1H
X-Robots-Tag:noindex
X-PUBLISHED-TTL:PT1H
BEGIN:VTIMEZONE
TZID:UTC
BEGIN:STANDARD
TZOFFSETFROM:+0000
TZOFFSETTO:+0000
TZNAME:UTC
DTSTART:20260101T000000
END:STANDARD
END:VTIMEZONE
BEGIN:VEVENT
DTSTART;TZID=UTC:20260403T090000
DTEND;TZID=UTC:20260404T150000
DTSTAMP:20260420T142825
CREATED:20260220T181015Z
LAST-MODIFIED:20260317T175925Z
UID:4872-1775206800-1775314800@www.powermotorcyclesusa.com
SUMMARY:BMW Motorrad Demo Days at Power Motorcycles USA
DESCRIPTION:BMW Motorrad Demo Days in Palm Bay\, Florida\nApril 3–4\, 2026 | Power Motorcycles USA \nLooking for a BMW motorcycle demo ride in Florida? \nPower Motorcycles USA is hosting official BMW Motorrad Demo Days in Palm Bay on April 3rd and 4th\, 2026. This two-day event gives riders the opportunity to test ride the latest 2026 BMW motorcycles\, including the new R 1300 platform\, GS adventure models\, touring bikes\, and high-performance sport models. \nIf you’ve been searching for a BMW test ride near you\, this is the event. \n\nPre-Register for BMW Demo Rides\nSecure your spot in line and speed up your check-in process: \n👉 https://2026powerpalmbaydemo.bmwmotorcyclesevents.com/ \nPre-registration allows you to submit your information ahead of time. \nImportant:Pre-registration does not reserve or guarantee a ride time. All demo rides are first come\, first served. \nQR codes will also be available throughout the dealership for easy on-site registration. \n\nTest Ride the 2026 BMW Motorcycle Lineup\nExperience real-world riding on select models (subject to availability): \nAdventure\n\n\n2026 BMW R 1300 GS \n\n\n2026 BMW R 1300 GS Adventure \n\n\n2026 BMW F 900 GS \n\n\nTouring\n\n\n2026 BMW R 1300 RT \n\n\n2026 BMW K 1600 GT \n\n\n2026 BMW K 1600 GTL \n\n\n2026 BMW K 1600 B \n\n\nSport & Performance\n\n\n2026 BMW S 1000 RR \n\n\n2026 BMW S 1000 XR \n\n\n2026 BMW M 1000 XR \n\n\nRoadster\n\n\n2026 BMW R 1300 R \n\n\n2026 BMW S 1000 R \n\n\nThis lineup includes BMW’s most popular models and may change slightly depending on demo fleet availability. \n\nEvent Details\nLocation:Power Motorcycles USAPalm Bay\, Florida \nDates:Friday\, April 3rd\, 2026Saturday\, April 4th\, 2026 \nDemo rides run throughout the day and conclude one hour before closing. \n\nDemo Ride Requirements\nTo participate\, riders must: \n\n\nHave a valid motorcycle endorsement \n\n\nWear a DOT-approved helmet \n\n\nWear long pants and closed-toe shoes \n\n\nSign a waiver at check-in \n\n\n\nWhat Makes BMW Demo Days Different\nBMW’s official demo fleet travels across multiple events\, meaning every bike is maintained\, rotated\, and prepared for real-world riding conditions. \nModel availability may vary\, but the experience stays the same: \nYou’re not sitting on a bike.You’re riding it. \n\nWhy Attend\nWhether you’re comparing the R 1300 GS vs R 1300 RT\, exploring BMW ASA (Automated Shift Assistant)\, or deciding between sport and touring platforms\, Demo Days gives you real clarity. \nThere is no substitute for seat time. \n\nPlan Your Visit\nWe recommend arriving early\, especially on Saturday\, as ride availability can fill quickly. \n\nPower Motorcycles USAPalm Bay\, Florida \nRide the new R 1300 platform.Experience BMW performance.Find your next motorcycle the right way.
URL:https://www.powermotorcyclesusa.com/event/bmw-motorrad-demo-days/
CATEGORIES:Demo Event,Power Motorcycle USA Events
ATTACH;FMTTYPE=image/png:https://www.powermotorcyclesusa.com/wp-content/uploads/2026/02/BMW-Demo-.png
END:VEVENT
END:VCALENDAR