BEGIN:VCALENDAR
VERSION:2.0
PRODID:-//Power Motorcycles USA - ECPv6.9.0//NONSGML v1.0//EN
CALSCALE:GREGORIAN
METHOD:PUBLISH
X-WR-CALNAME:Power Motorcycles USA
X-ORIGINAL-URL:https://www.powermotorcyclesusa.com
X-WR-CALDESC:Events for Power Motorcycles USA
REFRESH-INTERVAL;VALUE=DURATION:PT1H
X-Robots-Tag:noindex
X-PUBLISHED-TTL:PT1H
BEGIN:VTIMEZONE
TZID:UTC
BEGIN:STANDARD
TZOFFSETFROM:+0000
TZOFFSETTO:+0000
TZNAME:UTC
DTSTART:20260101T000000
END:STANDARD
END:VTIMEZONE
BEGIN:VEVENT
DTSTART;VALUE=DATE:20260321
DTEND;VALUE=DATE:20260322
DTSTAMP:20260424T154514
CREATED:20260311T180638Z
LAST-MODIFIED:20260311T180824Z
UID:4903-1774051200-1774137599@www.powermotorcyclesusa.com
SUMMARY:Indian Motorcycles Swap Your Swag – 125th Anniversary Celebration
DESCRIPTION:Swap Your Swag – 125th Anniversary Celebration\nSaturday\, March 21 | Power Motorcycles USA \nIndian Motorcycle is celebrating 125 years of American motorcycling\, and we’re inviting the riding community to join us for a special one-day event. \nBring in any piece of motorcycle swag — from any brand and swap it for an exclusive\, limited-edition Indian Motorcycle 125th Anniversary T-shirt. \nThat old rally tee\, dealership hat\, or worn-in riding shirt? Bring it with you and trade it in for a collectible piece celebrating one of the most legendary names in motorcycling. \nHow It Works\n\nBring any motorcycle-related apparel (any brand)\nSwap it for a limited-edition 125th Anniversary Indian Motorcycle T-shirt\nConnect with fellow riders and celebrate the season ahead\n\nWhy You Should Stop By\n\nCelebrate 125 years of Indian Motorcycle heritage\nMeet fellow riders from the local community\nGear up for the riding season\nScore a limited-edition anniversary shirt\n\nQuantities are limited and this is a one-day event\, so be sure to arrive early to claim yours. \nWhether you ride an Indian\, BMW\, Ducati\, Harley\, or anything in between\, all riders are welcome. \nEvent Location\nPower Motorcycles USA190 Interstate Ct SEPalm Bay\, FL 32909321-215-2065 \nJoin us\, swap your swag\, and celebrate 125 years of riding history.
URL:https://www.powermotorcyclesusa.com/event/indian-motorcycles-swap-your-swag-event/
ATTACH;FMTTYPE=image/png:https://www.powermotorcyclesusa.com/wp-content/uploads/2026/03/ChatGPT-Image-Mar-11-2026-02_00_44-PM.png
END:VEVENT
BEGIN:VEVENT
DTSTART;VALUE=DATE:20260313
DTEND;VALUE=DATE:20260315
DTSTAMP:20260424T154514
CREATED:20260120T191045Z
LAST-MODIFIED:20260204T153511Z
UID:4779-1773360000-1773532799@www.powermotorcyclesusa.com
SUMMARY:Indian Motorcycle Demo Days
DESCRIPTION: The thunder is coming to the Space Coast. \nJoin us at Power Motorcycles USA for Indian Motorcycle Demo Days\, a two-day ride experience celebrating 125 years of American motorcycling. This is your chance to throw a leg over the latest Indian Motorcycle models\, meet fellow riders\, and soak in a full weekend built around the riding lifestyle. \n📅 Event Details\nFriday\, March 13 | 9:00 AM – 5:00 PMSaturday\, March 14 | 9:00 AM – 3:00 PM \n📍 Power Motorcycles USA190 Interstate Ct SE\, Palm Bay\, FL 32909📞 321-215-2065 \n🏍️ What to Expect\n\nIndian Motorcycle Demo RidesExperience the lineup firsthand. Power\, comfort\, attitude. No brochure can replace seat time.\nVendors & Industry PartnersGear\, accessories\, and upgrades worth checking out.\nLocal IMRG ChapterRide stories\, community vibes\, and familiar faces from the local Indian Motorcycle Riders Group.\nFood & Good TimesCome hungry. Stay awhile.\nRider Community AtmosphereThis is about bikes\, people\, and miles ahead.\n\nWhether you’re already riding Indian or just curious what all the noise is about\, this is a weekend worth putting on the calendar. Bring your friends. Bring your questions. Bring your helmet. \nRide one. Feel it. Decide for yourself. \n👉 Questions or want to plan your visit?Call 321-215-2065 or stop by Power Motorcycles USA in Palm Bay.
URL:https://www.powermotorcyclesusa.com/event/indian-motorcycle-demo-days/
CATEGORIES:Demo Event,Power Motorcycle USA Events
ATTACH;FMTTYPE=image/png:https://www.powermotorcyclesusa.com/wp-content/uploads/2026/01/Indian-Demo-day-event-Instagram-Post.png
END:VEVENT
END:VCALENDAR