BEGIN:VCALENDAR
VERSION:2.0
PRODID:-//Power Motorcycles USA - ECPv6.9.0//NONSGML v1.0//EN
CALSCALE:GREGORIAN
METHOD:PUBLISH
X-WR-CALNAME:Power Motorcycles USA
X-ORIGINAL-URL:https://www.powermotorcyclesusa.com
X-WR-CALDESC:Events for Power Motorcycles USA
REFRESH-INTERVAL;VALUE=DURATION:PT1H
X-Robots-Tag:noindex
X-PUBLISHED-TTL:PT1H
BEGIN:VTIMEZONE
TZID:UTC
BEGIN:STANDARD
TZOFFSETFROM:+0000
TZOFFSETTO:+0000
TZNAME:UTC
DTSTART:20260101T000000
END:STANDARD
END:VTIMEZONE
BEGIN:VEVENT
DTSTART;TZID=UTC:20260403T090000
DTEND;TZID=UTC:20260404T150000
DTSTAMP:20260420T163348
CREATED:20260220T181015Z
LAST-MODIFIED:20260317T175925Z
UID:4872-1775206800-1775314800@www.powermotorcyclesusa.com
SUMMARY:BMW Motorrad Demo Days at Power Motorcycles USA
DESCRIPTION:BMW Motorrad Demo Days in Palm Bay\, Florida\nApril 3–4\, 2026 | Power Motorcycles USA \nLooking for a BMW motorcycle demo ride in Florida? \nPower Motorcycles USA is hosting official BMW Motorrad Demo Days in Palm Bay on April 3rd and 4th\, 2026. This two-day event gives riders the opportunity to test ride the latest 2026 BMW motorcycles\, including the new R 1300 platform\, GS adventure models\, touring bikes\, and high-performance sport models. \nIf you’ve been searching for a BMW test ride near you\, this is the event. \n\nPre-Register for BMW Demo Rides\nSecure your spot in line and speed up your check-in process: \n👉 https://2026powerpalmbaydemo.bmwmotorcyclesevents.com/ \nPre-registration allows you to submit your information ahead of time. \nImportant:Pre-registration does not reserve or guarantee a ride time. All demo rides are first come\, first served. \nQR codes will also be available throughout the dealership for easy on-site registration. \n\nTest Ride the 2026 BMW Motorcycle Lineup\nExperience real-world riding on select models (subject to availability): \nAdventure\n\n\n2026 BMW R 1300 GS \n\n\n2026 BMW R 1300 GS Adventure \n\n\n2026 BMW F 900 GS \n\n\nTouring\n\n\n2026 BMW R 1300 RT \n\n\n2026 BMW K 1600 GT \n\n\n2026 BMW K 1600 GTL \n\n\n2026 BMW K 1600 B \n\n\nSport & Performance\n\n\n2026 BMW S 1000 RR \n\n\n2026 BMW S 1000 XR \n\n\n2026 BMW M 1000 XR \n\n\nRoadster\n\n\n2026 BMW R 1300 R \n\n\n2026 BMW S 1000 R \n\n\nThis lineup includes BMW’s most popular models and may change slightly depending on demo fleet availability. \n\nEvent Details\nLocation:Power Motorcycles USAPalm Bay\, Florida \nDates:Friday\, April 3rd\, 2026Saturday\, April 4th\, 2026 \nDemo rides run throughout the day and conclude one hour before closing. \n\nDemo Ride Requirements\nTo participate\, riders must: \n\n\nHave a valid motorcycle endorsement \n\n\nWear a DOT-approved helmet \n\n\nWear long pants and closed-toe shoes \n\n\nSign a waiver at check-in \n\n\n\nWhat Makes BMW Demo Days Different\nBMW’s official demo fleet travels across multiple events\, meaning every bike is maintained\, rotated\, and prepared for real-world riding conditions. \nModel availability may vary\, but the experience stays the same: \nYou’re not sitting on a bike.You’re riding it. \n\nWhy Attend\nWhether you’re comparing the R 1300 GS vs R 1300 RT\, exploring BMW ASA (Automated Shift Assistant)\, or deciding between sport and touring platforms\, Demo Days gives you real clarity. \nThere is no substitute for seat time. \n\nPlan Your Visit\nWe recommend arriving early\, especially on Saturday\, as ride availability can fill quickly. \n\nPower Motorcycles USAPalm Bay\, Florida \nRide the new R 1300 platform.Experience BMW performance.Find your next motorcycle the right way.
URL:https://www.powermotorcyclesusa.com/event/bmw-motorrad-demo-days/
CATEGORIES:Demo Event,Power Motorcycle USA Events
ATTACH;FMTTYPE=image/png:https://www.powermotorcyclesusa.com/wp-content/uploads/2026/02/BMW-Demo-.png
END:VEVENT
BEGIN:VEVENT
DTSTART;TZID=UTC:20260411T100000
DTEND;TZID=UTC:20260411T170000
DTSTAMP:20260420T163348
CREATED:20260318T165135Z
LAST-MODIFIED:20260401T173144Z
UID:4920-1775901600-1775926800@www.powermotorcyclesusa.com
SUMMARY:Power “Saturdaze” Ride Series | Monthly Motorcycle Group Ride in Palm Bay\, FL
DESCRIPTION:Join us at Power Motorcycles USA for our Power “Saturdaze” Ride Series\, a monthly motorcycle group ride designed for riders across the Space Coast and Central Florida. \nHeld every second Saturday\, this ride is all about getting out on the road\, connecting with other riders\, and starting your weekend the right way. \n\nEvent Details\n\n\nWhen: Second Saturday of every month \n\n\nMeet Time: 10:00 AM \n\n\nDeparture: 10:30 AM (sharp) \n\n\nLocation: Power Motorcycles USA\, Palm Bay\, Florida \n\n\nEach ride features a different route\, including local coffee spots\, scenic coastal roads\, and rider-friendly destinations throughout the area. \n\nWhat to Expect\n\n\nA structured\, easy-to-follow group ride \n\n\nA welcoming environment for all experience levels \n\n\nTime to explore the dealership before departure \n\n\nA rotating Featured Ride from our inventory showcased each month \n\n\n\nWho Should Attend\nThis ride is open to: \n\n\nNew riders \n\n\nExperienced riders \n\n\nBMW\, Ducati\, Indian\, and all motorcycle brands \n\n\nIf you ride\, you’re welcome. \n\nWhy Ride With Us\nThe Power “Saturdaze” Ride Series isn’t about sales — it’s about building a real riding community. \nIt’s a place to: \n\n\nMeet other riders \n\n\nDiscover new routes \n\n\nExperience different motorcycles \n\n\nStay connected with the local riding scene \n\n\n\nBefore You Arrive\nWe recommend: \n\n\nArriving with a full tank \n\n\nBringing proper riding gear \n\n\nShowing up early to check in and get ready \n\n\n\nPlan Your Ride\nNo registration required. Just show up and ride. \nFor updates\, featured bikes\, and monthly route details\, follow us on Facebook and Instagram or contact our team directly. \n\nLocation\nPower Motorcycles USA190 Interstate Ct SEPalm Bay\, FL 32909 \n\nStart your weekend on two wheels. \nJoin the next Power “Saturdaze” Ride Series and ride with us. \n\nApril 11th: Cocoa Backroad Run\nWe’re launching our monthly group ride series the way it should be—on roads that actually make you want to ride. \nThe Cocoa Backroad Run is a 90-mile loop designed to get you off the main highways and into the kind of riding that makes you forget about the week. Smooth backroads\, light traffic\, and a mix of open stretches and technical sections make this a well-balanced ride for a wide range of riders. \nWe’ll start at Power Motorcycles USA\, roll out through Deer Park Rd and Nova Rd\, and head toward Cocoa Village\, where we’ll stop for lunch and hang out before making our way back down US-1 to Malabar Rd and returning to the dealership. \nThis isn’t a race and it’s not a parade—it’s a structured\, well-paced group ride built around enjoying the road and the community. \n\nRide Details:\n\nDate: Saturday\, April 11th\nMeet Time: 10:00 AM\nKickstands Up: 10:30 AM (no delays)\nDistance: ~91 miles\nRide Time: ~2 hours (plus lunch stop)\n\n\nRoute Overview:\nPower Motorcycles USA → Deer Park Rd → Nova Rd → SR-520 → Cocoa Village (lunch stop) → US-1 → Malabar Rd → Back to PMU \n\nWhat to Expect:\n\nCurated backroad route (no A1A traffic runs)\nMid-ride stop in Cocoa Village\nRide led by dealership staff\nMonthly ride series—new route every time\n\n\nBefore You Ride:\n\nCome fueled and ready\nArrive early if you want time to walk the showroom\nRide your own pace\, but respect the group structure\nAll riders and brands welcome
URL:https://www.powermotorcyclesusa.com/event/power-saturdaze-ride-series/
CATEGORIES:Power Motorcycle USA Events
ATTACH;FMTTYPE=image/png:https://www.powermotorcyclesusa.com/wp-content/uploads/2026/03/Power-Saturdaze-Ride-Series-Instagram-Post-34.png
END:VEVENT
BEGIN:VEVENT
DTSTART;TZID=UTC:20260418T090000
DTEND;TZID=UTC:20260418T160000
DTSTAMP:20260420T163348
CREATED:20260414T180713Z
LAST-MODIFIED:20260414T180738Z
UID:4974-1776502800-1776528000@www.powermotorcyclesusa.com
SUMMARY:7th Annual IMRG Ride-Out + First to the Line Kickoff
DESCRIPTION:7th Annual IMRG Ride-Out + First to the Line Kickoff\nSaturday\, April 18\, 2026Power Motorcycles USA | Indian Motorcycle of Palm Bay \nJoin us at Power Motorcycles USA for the 7th Annual IMRG Multi-Chapter Ride-Out as we kick off Indian Motorcycle’s First to the Line Event with a full morning at the dealership before heading out on the road. \nWe’ll be hosting IMRG members\, local riders\, and guests here at the dealership before rollout\, creating a true season-opening atmosphere with bikes\, community\, and a strong reason to arrive early. \nStart the Morning at the Dealership\nBefore kickstands go up\, enjoy the pre-ride experience at Power Motorcycles USA: \n\nCoffee and refreshments\nMusic at the dealership\nFull 2026 Indian Motorcycle lineup on display\nCurrent in-store promotions\nTime to connect with riders and IMRG members before departure\n\nThis is more than just a meetup point. It’s the starting line for the day. \nCurrent In-Store Promotions\nAs part of Indian Motorcycle’s First to the Line Event\, we’ll also be highlighting current promotions available in-store\, including: \n\nUp to $1\,500 Customer Cash on select 2025 models\nUp to $1\,500 Trade-In Credit on eligible models\n1.99% financing on select models\nUp to $1\,000 competitive trade bonus\n20% off accessories with the purchase of a new Indian Motorcycle\n\nIndian’s April playbook specifically calls out the April campaign offers\, including the MY25 Heavyweight Customer Cash & Trade-In offer\, No Interest & No Payments offer\, and 20% Off Accessories offer\, and also highlights model-specific First to the Line digital offers such as customer cash\, trade-in credit\, competitive trade bonus\, and 1.99% financing on select models. \nEvent Schedule\nLocation:Power Motorcycles USAIndian Motorcycle of Palm Bay190 Interstate Ct\, Palm Bay\, FL \nMeet Time: 9:00 AMKickstands Up: 9:30 AM sharp \nRide Route\nWe’ll depart from the dealership and head south to Yeehaw Junction\, where we’ll meet additional IMRG chapters at the Pilot Truck Stop around 10:30 AM. \nFrom there\, the group will continue on together to Okeechobee for the annual meetup destination. \nDestination\nParrott Island GrillLake OkeechobeeEstimated arrival: 11:30 AM \nOnce we arrive\, riders will gather for: \n\nLunch\nCamaraderie with IMRG chapters from across the state\nGroup photos at the restaurant\nAdditional group photos by the lake\n\nWho’s Invited\nThis event is open to: \n\nIMRG chapters and members\nIndian Motorcycle owners\n\nWhy This Event Matters\nThe First to the Line Kick-Off Party is part of Indian Motorcycle’s 125th anniversary campaign and is intended to start the riding season while showcasing the new lineup and driving excitement at the dealership. The playbook for April 18 specifically encourages dealers to create an event atmosphere with food\, refreshments\, music\, the full MY26 lineup\, and special offers in-store. \nWith the added momentum of the 7th Annual IMRG Multi-Chapter Ride-Out\, this year’s event brings together the energy of the national campaign and the strength of the riding community in one day. \nJoin Us\nCome early\, enjoy the dealership experience\, and ride out with us. \nFor questions\, route details\, or more information\, contact Power Motorcycles USA. \nDisclaimer\nOffers valid on select new Indian Motorcycle models and are subject to change without notice. Financing available to qualified buyers. Trade-in credits and competitive trade bonuses may vary based on vehicle eligibility and condition. Accessory discounts apply to eligible purchases only. See dealer for full offer details. \nPlease arrive fueled\, ready to ride\, and prepared to follow group ride safety guidelines.
URL:https://www.powermotorcyclesusa.com/event/7th-annual-imrg-ride-out-first-to-the-line-kickoff/
CATEGORIES:IMRG,Power Motorcycle USA Events
END:VEVENT
END:VCALENDAR